BEGIN:VCALENDAR
VERSION:2.0
PRODID:-//The Mint Museum - ECPv6.15.20//NONSGML v1.0//EN
CALSCALE:GREGORIAN
METHOD:PUBLISH
X-ORIGINAL-URL:https://www.mintmuseum.org
X-WR-CALDESC:Events for The Mint Museum
REFRESH-INTERVAL;VALUE=DURATION:PT1H
X-Robots-Tag:noindex
X-PUBLISHED-TTL:PT1H
BEGIN:VTIMEZONE
TZID:UTC
BEGIN:STANDARD
TZOFFSETFROM:+0000
TZOFFSETTO:+0000
TZNAME:UTC
DTSTART:20230101T000000
END:STANDARD
END:VTIMEZONE
BEGIN:VTIMEZONE
TZID:America/New_York
BEGIN:DAYLIGHT
TZOFFSETFROM:-0500
TZOFFSETTO:-0400
TZNAME:EDT
DTSTART:20230312T070000
END:DAYLIGHT
BEGIN:STANDARD
TZOFFSETFROM:-0400
TZOFFSETTO:-0500
TZNAME:EST
DTSTART:20231105T060000
END:STANDARD
BEGIN:DAYLIGHT
TZOFFSETFROM:-0500
TZOFFSETTO:-0400
TZNAME:EDT
DTSTART:20240310T070000
END:DAYLIGHT
BEGIN:STANDARD
TZOFFSETFROM:-0400
TZOFFSETTO:-0500
TZNAME:EST
DTSTART:20241103T060000
END:STANDARD
BEGIN:DAYLIGHT
TZOFFSETFROM:-0500
TZOFFSETTO:-0400
TZNAME:EDT
DTSTART:20250309T070000
END:DAYLIGHT
BEGIN:STANDARD
TZOFFSETFROM:-0400
TZOFFSETTO:-0500
TZNAME:EST
DTSTART:20251102T060000
END:STANDARD
END:VTIMEZONE
BEGIN:VEVENT
DTSTART;TZID=UTC:20240302T100000
DTEND;TZID=UTC:20240302T110000
DTSTAMP:20260419T103311
CREATED:20231030T144348Z
LAST-MODIFIED:20240118T154920Z
UID:10000906-1709373600-1709377200@www.mintmuseum.org
SUMMARY:Yoga on the Lawn
DESCRIPTION:Participate in a one-hour yoga class with Dancing Lotus Yoga + Art select Saturdays on the front lawn at Mint Museum Randolph (weather permitting). Classes are free for Mint members using code MINT21 and $15 for non-members. Registration is required. \nDuring the winter months\, this class will be hosted inside Mint Museum Randolph. \nLearn more about Dancing Lotus Yoga here. \n 
URL:https://www.mintmuseum.org/event/yoga-at-the-mint-3/2024-03-02/
LOCATION:Mint Museum Randolph
CATEGORIES:All,Members
ATTACH;FMTTYPE=image/jpeg:https://www.mintmuseum.org/wp-content/uploads/2023/10/Yoga-on-the-Lawn-1-scaled.jpg
GEO:35.1973424;-80.8146806
END:VEVENT
BEGIN:VEVENT
DTSTART;TZID=America/New_York:20240303T140000
DTEND;TZID=America/New_York:20240303T153000
DTSTAMP:20260419T103311
CREATED:20231130T185805Z
LAST-MODIFIED:20240226T193820Z
UID:10002499-1709474400-1709479800@www.mintmuseum.org
SUMMARY:Art of Reading: Buttermilk Graffiti
DESCRIPTION:This program will create connections between a work of literature and the visual arts. After discussing “Buttermilk Graffiti\,” Mint Docents will present works of art that bring life to themes that the author\, Edward Lee\, addresses in the book.\nAll programs are 90 minutes.\nRegistration Required (Included with General Admission)\nMint Museum Randolph
URL:https://www.mintmuseum.org/event/art-of-reading-community-read/
LOCATION:Mint Museum Randolph
CATEGORIES:Adult Programs,Free
ATTACH;FMTTYPE=image/jpeg:https://www.mintmuseum.org/wp-content/uploads/2023/09/MicrosoftTeams-image-10-scaled.jpg
GEO:35.1973424;-80.8146806
END:VEVENT
BEGIN:VEVENT
DTSTART;VALUE=DATE:20240306
DTEND;VALUE=DATE:20240310
DTSTAMP:20260419T103311
CREATED:20231218T190019Z
LAST-MODIFIED:20240219T173037Z
UID:10002582-1709683200-1710028799@www.mintmuseum.org
SUMMARY:Free Art Kits: Spinning Top
DESCRIPTION:Visit Mint Randolph Wednesday through Saturday\, March 6-9 to pick up a fun all-ages project to create at home. This month\, decorate and construct an artsy spinning top inspired by a glass sculpture by artist Nancy Callan. Free Art Kits are supported by Mint Museum Auxiliary. \n*While supplies last\, during museum hours: Wednesday 11 AM-9 PM | Thursday-Saturday 11 AM-6 PM \nContact: Leslie Straussleslie.strauss@mintmuseum.org(704) 337-2050
URL:https://www.mintmuseum.org/event/free-art-kits-spinning-top/
LOCATION:Mint Museum Randolph
CATEGORIES:Adult Programs,Family Friendly,Free
ATTACH;FMTTYPE=image/jpeg:https://www.mintmuseum.org/wp-content/uploads/2023/12/Nancy-Callan-Topjpg-jpg.webp
GEO:35.1973424;-80.8146806
END:VEVENT
BEGIN:VEVENT
DTSTART;TZID=America/New_York:20240306T170000
DTEND;TZID=America/New_York:20240306T200000
DTSTAMP:20260419T103311
CREATED:20240129T201249Z
LAST-MODIFIED:20240129T201251Z
UID:10002525-1709744400-1709755200@www.mintmuseum.org
SUMMARY:Drop In Art at Mint Randolph
DESCRIPTION:Drop In | Ages 3 to AdultThe Art Room is open! Drop by anytime between 5-8 PM on Wednesdays for self-directed\, creative fun for children and adults. This season explore drawing\, painting\, collage\, and fiber art activities. A museum educator will be on hand to share studio rules and provide helpful tips. \nContact: Leslie Straussleslie.strauss@mintmuseum.org(704) 337-2050
URL:https://www.mintmuseum.org/event/drop-in-art-at-mint-randolph-4/2024-03-06/
LOCATION:Mint Museum Randolph
CATEGORIES:Adult Programs,Family Friendly,Free
ATTACH;FMTTYPE=image/jpeg:https://www.mintmuseum.org/wp-content/uploads/2023/07/drop-in-art-scaled.jpg
GEO:35.1973424;-80.8146806
END:VEVENT
BEGIN:VEVENT
DTSTART;TZID=America/New_York:20240306T180000
DTEND;TZID=America/New_York:20240306T193000
DTSTAMP:20260419T103311
CREATED:20231201T210859Z
LAST-MODIFIED:20240226T193846Z
UID:10002500-1709748000-1709753400@www.mintmuseum.org
SUMMARY:Art of Reading: Buttermilk Graffiti
DESCRIPTION:This program will create connections between a work of literature and the visual arts. After discussing “Buttermilk Graffiti\,” Mint Docents will present works of art that bring life to themes that the author\, Edward Lee\, addresses in the book.\nAll programs are 90 minutes.\nRegistration Required (Included with General Admission)\nMint Museum Randolph
URL:https://www.mintmuseum.org/event/art-of-reading-community-read-2/
LOCATION:Mint Museum Randolph
CATEGORIES:Adult Programs,Free
ATTACH;FMTTYPE=image/jpeg:https://www.mintmuseum.org/wp-content/uploads/2023/09/MicrosoftTeams-image-10-scaled.jpg
GEO:35.1973424;-80.8146806
END:VEVENT
BEGIN:VEVENT
DTSTART;TZID=America/New_York:20240308T180000
DTEND;TZID=America/New_York:20240308T200000
DTSTAMP:20260419T103311
CREATED:20240124T164526Z
LAST-MODIFIED:20240201T170025Z
UID:10002913-1709920800-1709928000@www.mintmuseum.org
SUMMARY:Young Affiliates of the Mint: Oyster Roast at Mint Museum Randolph
DESCRIPTION:Aww\, Shucks! We’re bringing back the YAMs Oyster Roast by popular demand. Enjoy oysters\, live music\, lawn games\, and more as we bring back this beloved tradition back to the Mint Randolph. \nA food truck and cash bar will also be on site to provide a wide variety of food and drink options.2024 TICKET PRICING$40 – Bottomless Oyster Ticket$15 – General Event Ticket
URL:https://www.mintmuseum.org/event/young-affiliates-of-the-mint-oyster-roast-at-mint-museum-randolph/
LOCATION:Mint Museum Randolph
CATEGORIES:Adult Programs
ATTACH;FMTTYPE=image/jpeg:https://www.mintmuseum.org/wp-content/uploads/2024/01/IMG_4019-jpg.webp
GEO:35.1973424;-80.8146806
END:VEVENT
BEGIN:VEVENT
DTSTART;TZID=UTC:20240309T100000
DTEND;TZID=UTC:20240309T110000
DTSTAMP:20260419T103312
CREATED:20240306T184615Z
LAST-MODIFIED:20240306T184617Z
UID:10000907-1709978400-1709982000@www.mintmuseum.org
SUMMARY:Yoga on the Lawn
DESCRIPTION:Participate in a one-hour yoga class with Dancing Lotus Yoga + Art select Saturdays on the front lawn at Mint Museum Randolph (weather permitting). Classes are free for Mint members using code MINT21 and $15 for non-members. During the winter months\, this class will be hosted inside Mint Museum Randolph. \nRegistration is required. \nRegister through Dancing Lotus Yoga + Arts here. \n 
URL:https://www.mintmuseum.org/event/yoga-at-the-mint-3-2/2024-03-09/
LOCATION:Mint Museum Randolph
CATEGORIES:All,Members
ATTACH;FMTTYPE=image/jpeg:https://www.mintmuseum.org/wp-content/uploads/2023/10/Yoga-on-the-Lawn-1-scaled.jpg
GEO:35.1973424;-80.8146806
END:VEVENT
BEGIN:VEVENT
DTSTART;TZID=America/New_York:20240313T170000
DTEND;TZID=America/New_York:20240313T200000
DTSTAMP:20260419T103312
CREATED:20240129T201249Z
LAST-MODIFIED:20240129T201251Z
UID:10002526-1710349200-1710360000@www.mintmuseum.org
SUMMARY:Drop In Art at Mint Randolph
DESCRIPTION:Drop In | Ages 3 to AdultThe Art Room is open! Drop by anytime between 5-8 PM on Wednesdays for self-directed\, creative fun for children and adults. This season explore drawing\, painting\, collage\, and fiber art activities. A museum educator will be on hand to share studio rules and provide helpful tips. \nContact: Leslie Straussleslie.strauss@mintmuseum.org(704) 337-2050
URL:https://www.mintmuseum.org/event/drop-in-art-at-mint-randolph-4/2024-03-13/
LOCATION:Mint Museum Randolph
CATEGORIES:Adult Programs,Family Friendly,Free
ATTACH;FMTTYPE=image/jpeg:https://www.mintmuseum.org/wp-content/uploads/2023/07/drop-in-art-scaled.jpg
GEO:35.1973424;-80.8146806
END:VEVENT
BEGIN:VEVENT
DTSTART;TZID=UTC:20240316T100000
DTEND;TZID=UTC:20240316T110000
DTSTAMP:20260419T103312
CREATED:20240306T184615Z
LAST-MODIFIED:20240306T184617Z
UID:10000908-1710583200-1710586800@www.mintmuseum.org
SUMMARY:Yoga on the Lawn
DESCRIPTION:Participate in a one-hour yoga class with Dancing Lotus Yoga + Art select Saturdays on the front lawn at Mint Museum Randolph (weather permitting). Classes are free for Mint members using code MINT21 and $15 for non-members. During the winter months\, this class will be hosted inside Mint Museum Randolph. \nRegistration is required. \nRegister through Dancing Lotus Yoga + Arts here. \n 
URL:https://www.mintmuseum.org/event/yoga-at-the-mint-3-2/2024-03-16/
LOCATION:Mint Museum Randolph
CATEGORIES:All,Members
ATTACH;FMTTYPE=image/jpeg:https://www.mintmuseum.org/wp-content/uploads/2023/10/Yoga-on-the-Lawn-1-scaled.jpg
GEO:35.1973424;-80.8146806
END:VEVENT
BEGIN:VEVENT
DTSTART;TZID=America/New_York:20240320T170000
DTEND;TZID=America/New_York:20240320T200000
DTSTAMP:20260419T103312
CREATED:20240129T201249Z
LAST-MODIFIED:20240129T201251Z
UID:10002527-1710954000-1710964800@www.mintmuseum.org
SUMMARY:Drop In Art at Mint Randolph
DESCRIPTION:Drop In | Ages 3 to AdultThe Art Room is open! Drop by anytime between 5-8 PM on Wednesdays for self-directed\, creative fun for children and adults. This season explore drawing\, painting\, collage\, and fiber art activities. A museum educator will be on hand to share studio rules and provide helpful tips. \nContact: Leslie Straussleslie.strauss@mintmuseum.org(704) 337-2050
URL:https://www.mintmuseum.org/event/drop-in-art-at-mint-randolph-4/2024-03-20/
LOCATION:Mint Museum Randolph
CATEGORIES:Adult Programs,Family Friendly,Free
ATTACH;FMTTYPE=image/jpeg:https://www.mintmuseum.org/wp-content/uploads/2023/07/drop-in-art-scaled.jpg
GEO:35.1973424;-80.8146806
END:VEVENT
BEGIN:VEVENT
DTSTART;TZID=America/New_York:20240322T180000
DTEND;TZID=America/New_York:20240322T193000
DTSTAMP:20260419T103312
CREATED:20240108T194856Z
LAST-MODIFIED:20240313T195048Z
UID:10002865-1711130400-1711135800@www.mintmuseum.org
SUMMARY:Mint Música & Poesía Café
DESCRIPTION:Join us in celebrating Latinx talent through music and poetry! Mint Música & Poesía Café highlights local performers living in and near Charlotte. Experience live tropical music\, Latin rhythms\, and performances by Lati2 Latinos\, and Adeola Fearon’s vibrant improvisational poetry. \nCelebra con nosotros los talentos latinos a través de la música y la poesía. Mint Música & Poesía Café presenta artistas locales. Disfruta música tropical en vivo\, ritmos latinos y actuaciones de Lati2 Latinos y la vibrante poesía improvisada de Adeola Fearon.
URL:https://www.mintmuseum.org/event/mint-musica-poesia-cafe/
LOCATION:Mint Museum Randolph
CATEGORIES:Adult Programs,Family Friendly,Free
ATTACH;FMTTYPE=image/jpeg:https://www.mintmuseum.org/wp-content/uploads/2024/01/mint-musica-y-poesia-11-scaled.jpg
GEO:35.1973424;-80.8146806
END:VEVENT
BEGIN:VEVENT
DTSTART;TZID=UTC:20240323T100000
DTEND;TZID=UTC:20240323T110000
DTSTAMP:20260419T103312
CREATED:20240306T184615Z
LAST-MODIFIED:20240306T184617Z
UID:10000909-1711188000-1711191600@www.mintmuseum.org
SUMMARY:Yoga on the Lawn
DESCRIPTION:Participate in a one-hour yoga class with Dancing Lotus Yoga + Art select Saturdays on the front lawn at Mint Museum Randolph (weather permitting). Classes are free for Mint members using code MINT21 and $15 for non-members. During the winter months\, this class will be hosted inside Mint Museum Randolph. \nRegistration is required. \nRegister through Dancing Lotus Yoga + Arts here. \n 
URL:https://www.mintmuseum.org/event/yoga-at-the-mint-3-2/2024-03-23/
LOCATION:Mint Museum Randolph
CATEGORIES:All,Members
ATTACH;FMTTYPE=image/jpeg:https://www.mintmuseum.org/wp-content/uploads/2023/10/Yoga-on-the-Lawn-1-scaled.jpg
GEO:35.1973424;-80.8146806
END:VEVENT
BEGIN:VEVENT
DTSTART;TZID=America/New_York:20240324T130000
DTEND;TZID=America/New_York:20240324T170000
DTSTAMP:20260419T103312
CREATED:20240131T125534Z
LAST-MODIFIED:20240131T125537Z
UID:10002584-1711285200-1711299600@www.mintmuseum.org
SUMMARY:Party in the Park
DESCRIPTION:Enjoy a festive afternoon with food trucks\, live music\, a cash bar on the front terrace (weather permitting)\, plus live artist demos responding to themes of identity and culture found in works featured in Buscando la sirena on view at Mint Museum Randolph.
URL:https://www.mintmuseum.org/event/party-in-the-park-12/
LOCATION:Mint Museum Randolph
CATEGORIES:Adult Programs,Family Friendly,Free,Members
ATTACH;FMTTYPE=image/jpeg:https://www.mintmuseum.org/wp-content/uploads/2023/03/MicrosoftTeams-image-2-jpg.webp
GEO:35.1973424;-80.8146806
END:VEVENT
BEGIN:VEVENT
DTSTART;TZID=America/New_York:20240327T170000
DTEND;TZID=America/New_York:20240327T200000
DTSTAMP:20260419T103312
CREATED:20240129T201249Z
LAST-MODIFIED:20240129T201251Z
UID:10002528-1711558800-1711569600@www.mintmuseum.org
SUMMARY:Drop In Art at Mint Randolph
DESCRIPTION:Drop In | Ages 3 to AdultThe Art Room is open! Drop by anytime between 5-8 PM on Wednesdays for self-directed\, creative fun for children and adults. This season explore drawing\, painting\, collage\, and fiber art activities. A museum educator will be on hand to share studio rules and provide helpful tips. \nContact: Leslie Straussleslie.strauss@mintmuseum.org(704) 337-2050
URL:https://www.mintmuseum.org/event/drop-in-art-at-mint-randolph-4/2024-03-27/
LOCATION:Mint Museum Randolph
CATEGORIES:Adult Programs,Family Friendly,Free
ATTACH;FMTTYPE=image/jpeg:https://www.mintmuseum.org/wp-content/uploads/2023/07/drop-in-art-scaled.jpg
GEO:35.1973424;-80.8146806
END:VEVENT
BEGIN:VEVENT
DTSTART;TZID=UTC:20240330T100000
DTEND;TZID=UTC:20240330T110000
DTSTAMP:20260419T103312
CREATED:20240327T174132Z
LAST-MODIFIED:20240327T174133Z
UID:10000910-1711792800-1711796400@www.mintmuseum.org
SUMMARY:Yoga on the Lawn
DESCRIPTION:Participate in a one-hour yoga class with Dancing Lotus Yoga + Art select Saturdays on the front lawn at Mint Museum Randolph (weather permitting). Classes are free for Mint members using code MINT21 and $10 for non-members. During the winter months\, this class will be hosted inside Mint Museum Randolph. \nRegistration is required. \nRegister through Dancing Lotus Yoga + Arts here. \n 
URL:https://www.mintmuseum.org/event/yoga-at-the-mint-3-2-2/2024-03-30/
LOCATION:Mint Museum Randolph
CATEGORIES:All,Members
ATTACH;FMTTYPE=image/jpeg:https://www.mintmuseum.org/wp-content/uploads/2023/10/Yoga-on-the-Lawn-1-scaled.jpg
GEO:35.1973424;-80.8146806
END:VEVENT
END:VCALENDAR