BEGIN:VCALENDAR
VERSION:2.0
PRODID:-//The Mint Museum - ECPv6.15.20//NONSGML v1.0//EN
CALSCALE:GREGORIAN
METHOD:PUBLISH
X-ORIGINAL-URL:https://www.mintmuseum.org
X-WR-CALDESC:Events for The Mint Museum
REFRESH-INTERVAL;VALUE=DURATION:PT1H
X-Robots-Tag:noindex
X-PUBLISHED-TTL:PT1H
BEGIN:VTIMEZONE
TZID:UTC
BEGIN:STANDARD
TZOFFSETFROM:+0000
TZOFFSETTO:+0000
TZNAME:UTC
DTSTART:20220101T000000
END:STANDARD
END:VTIMEZONE
BEGIN:VTIMEZONE
TZID:America/New_York
BEGIN:DAYLIGHT
TZOFFSETFROM:-0500
TZOFFSETTO:-0400
TZNAME:EDT
DTSTART:20220313T070000
END:DAYLIGHT
BEGIN:STANDARD
TZOFFSETFROM:-0400
TZOFFSETTO:-0500
TZNAME:EST
DTSTART:20221106T060000
END:STANDARD
BEGIN:DAYLIGHT
TZOFFSETFROM:-0500
TZOFFSETTO:-0400
TZNAME:EDT
DTSTART:20230312T070000
END:DAYLIGHT
BEGIN:STANDARD
TZOFFSETFROM:-0400
TZOFFSETTO:-0500
TZNAME:EST
DTSTART:20231105T060000
END:STANDARD
BEGIN:DAYLIGHT
TZOFFSETFROM:-0500
TZOFFSETTO:-0400
TZNAME:EDT
DTSTART:20240310T070000
END:DAYLIGHT
BEGIN:STANDARD
TZOFFSETFROM:-0400
TZOFFSETTO:-0500
TZNAME:EST
DTSTART:20241103T060000
END:STANDARD
END:VTIMEZONE
BEGIN:VEVENT
DTSTART;TZID=UTC:20230602T180000
DTEND;TZID=UTC:20230602T210000
DTSTAMP:20260419T215412
CREATED:20230518T221725Z
LAST-MODIFIED:20230519T210922Z
UID:10001649-1685728800-1685739600@www.mintmuseum.org
SUMMARY:Opening Reception + Artist Talk Holly Keogh: Overlaps and Interlockings
DESCRIPTION:Join ConstellationCLT artist Holly Keogh and curator Jamila Brown in conversation about Keogh’s installation Overlaps and Interlockings\, plus DJ and a cash bar. \n6-9 PM; 6:30 PM artist talk | Mint Museum Uptown | FREE \n 
URL:https://www.mintmuseum.org/event/opening-reception-artist-talk-holly-keogh-overlaps-and-interlockings/
LOCATION:Mint Museum Uptown
GEO:35.224305;-80.848151
END:VEVENT
BEGIN:VEVENT
DTSTART;TZID=UTC:20230603T100000
DTEND;TZID=UTC:20230603T110000
DTSTAMP:20260419T215412
CREATED:20230216T202816Z
LAST-MODIFIED:20230927T215027Z
UID:10000867-1685786400-1685790000@www.mintmuseum.org
SUMMARY:Yoga on the Lawn
DESCRIPTION:Participate in a one-hour yoga class with Dancing Lotus Yoga + Art select Saturdays on the front lawn at Mint Museum Randolph (weather permitting). Classes are free for Mint members using code MINT21 and $15 for non-members. Registration is required. \nDuring the winter months\, this class will be hosted inside Mint Museum Randolph. \nLearn more about Dancing Lotus Yoga here. \n 
URL:https://www.mintmuseum.org/event/yoga-at-the-mint/2023-06-03/
LOCATION:Mint Museum Randolph
CATEGORIES:All,Members
GEO:35.1973424;-80.8146806
END:VEVENT
BEGIN:VEVENT
DTSTART;TZID=UTC:20230606T171500
DTEND;TZID=UTC:20230606T181500
DTSTAMP:20260419T215412
CREATED:20230216T203007Z
LAST-MODIFIED:20240109T025149Z
UID:10001128-1686071700-1686075300@www.mintmuseum.org
SUMMARY:Yoga at the Mint
DESCRIPTION:Participate in a one-hour yoga class with Dancing Lotus Yoga + Arts every Tuesday from 5:15-6:15 PM at Mint Museum Uptown. Classes are free for Mint members using code MINT21 and $15 for nonmembers. Registration is required. \nLearn more about Dancing Lotus Yoga here.
URL:https://www.mintmuseum.org/event/yoga-at-the-mint-2/2023-06-06/
LOCATION:Mint Museum Uptown
CATEGORIES:All,Members
GEO:35.224305;-80.848151
END:VEVENT
BEGIN:VEVENT
DTSTART;TZID=UTC:20230607T170000
DTEND;TZID=UTC:20230607T210000
DTSTAMP:20260419T215412
CREATED:20230330T235015Z
LAST-MODIFIED:20230330T235202Z
UID:10001622-1686157200-1686171600@www.mintmuseum.org
SUMMARY:Wednesday Night Live: Opening celebration for 'Muicle: Material taxonomies in Abya Yala'
DESCRIPTION:Opening celebration and performance for Araceli Gómez Castro’s installation Muicle: Material taxonomies in Abya Yala\, curated by Marta Gualda. Wednesday Night Live is presented by Bank of America \nMint Museum Uptown\, MINT5pace and Queens Room \n5–9 PM\, 6 PM performance \nFree\, cash bar
URL:https://www.mintmuseum.org/event/wednesday-night-live-opening-celebration-for-muicle-material-taxonomies-in-abya-yala/
LOCATION:Mint Museum Uptown
CATEGORIES:All,Free
GEO:35.224305;-80.848151
END:VEVENT
BEGIN:VEVENT
DTSTART;TZID=UTC:20230610T100000
DTEND;TZID=UTC:20230610T110000
DTSTAMP:20260419T215412
CREATED:20230216T202816Z
LAST-MODIFIED:20230927T215027Z
UID:10000868-1686391200-1686394800@www.mintmuseum.org
SUMMARY:Yoga on the Lawn
DESCRIPTION:Participate in a one-hour yoga class with Dancing Lotus Yoga + Art select Saturdays on the front lawn at Mint Museum Randolph (weather permitting). Classes are free for Mint members using code MINT21 and $15 for non-members. Registration is required. \nDuring the winter months\, this class will be hosted inside Mint Museum Randolph. \nLearn more about Dancing Lotus Yoga here. \n 
URL:https://www.mintmuseum.org/event/yoga-at-the-mint/2023-06-10/
LOCATION:Mint Museum Randolph
CATEGORIES:All,Members
GEO:35.1973424;-80.8146806
END:VEVENT
BEGIN:VEVENT
DTSTART;TZID=UTC:20230613T171500
DTEND;TZID=UTC:20230613T181500
DTSTAMP:20260419T215412
CREATED:20230216T203007Z
LAST-MODIFIED:20240109T025149Z
UID:10001129-1686676500-1686680100@www.mintmuseum.org
SUMMARY:Yoga at the Mint
DESCRIPTION:Participate in a one-hour yoga class with Dancing Lotus Yoga + Arts every Tuesday from 5:15-6:15 PM at Mint Museum Uptown. Classes are free for Mint members using code MINT21 and $15 for nonmembers. Registration is required. \nLearn more about Dancing Lotus Yoga here.
URL:https://www.mintmuseum.org/event/yoga-at-the-mint-2/2023-06-13/
LOCATION:Mint Museum Uptown
CATEGORIES:All,Members
GEO:35.224305;-80.848151
END:VEVENT
BEGIN:VEVENT
DTSTART;TZID=America/New_York:20230614T180000
DTEND;TZID=America/New_York:20230614T200000
DTSTAMP:20260419T215412
CREATED:20230426T205758Z
LAST-MODIFIED:20230426T205955Z
UID:10001636-1686765600-1686772800@www.mintmuseum.org
SUMMARY:Wild Wednesday
DESCRIPTION:Drop by the lawn at Mint Museum Randolph to meet an animal from the Stevens Creek Nature Center\, participate in nature-themed art experiences\, and go on a self-guided scavenger hunt through the museum. Contact Leslie Strauss at 704-337.2050 or leslie.strauss@mintmuseum.org for more information. Animal encounter 6:30-7:30 PM
URL:https://www.mintmuseum.org/event/wild-wednesday-5/
LOCATION:Mint Museum Randolph
CATEGORIES:All,Family Friendly,Free
ATTACH;FMTTYPE=image/jpeg:https://www.mintmuseum.org/wp-content/uploads/2023/04/Wild-Wednesday_5_7.13.22-scaled.jpg
ORGANIZER;CN="Leslie Strauss":MAILTO:leslie.strauss@mintmuseum.org
GEO:35.1973424;-80.8146806
END:VEVENT
BEGIN:VEVENT
DTSTART;TZID=America/New_York:20230615T120000
DTEND;TZID=America/New_York:20230615T123000
DTSTAMP:20260419T215412
CREATED:20220112T155335Z
LAST-MODIFIED:20231205T160817Z
UID:10000569-1686830400-1686832200@www.mintmuseum.org
SUMMARY:ArtBreak
DESCRIPTION:Take a break in the day to hear from a museum docent about a work of art in the Mint’s collection. \nArtBreak\nThird Thursday of each month | Noon-12:30 PM\nMint Museum Uptown\nFREE
URL:https://www.mintmuseum.org/event/artbreak-3-2/2023-06-15/
LOCATION:Mint Museum Uptown
CATEGORIES:All,Free
ATTACH;FMTTYPE=image/jpeg:https://www.mintmuseum.org/wp-content/uploads/2023/01/8e24f46c-98d5-4f09-b087-fb1917fb133e-jpg.webp
GEO:35.224305;-80.848151
END:VEVENT
BEGIN:VEVENT
DTSTART;TZID=UTC:20230617T100000
DTEND;TZID=UTC:20230617T110000
DTSTAMP:20260419T215412
CREATED:20230216T202816Z
LAST-MODIFIED:20230927T215027Z
UID:10000869-1686996000-1686999600@www.mintmuseum.org
SUMMARY:Yoga on the Lawn
DESCRIPTION:Participate in a one-hour yoga class with Dancing Lotus Yoga + Art select Saturdays on the front lawn at Mint Museum Randolph (weather permitting). Classes are free for Mint members using code MINT21 and $15 for non-members. Registration is required. \nDuring the winter months\, this class will be hosted inside Mint Museum Randolph. \nLearn more about Dancing Lotus Yoga here. \n 
URL:https://www.mintmuseum.org/event/yoga-at-the-mint/2023-06-17/
LOCATION:Mint Museum Randolph
CATEGORIES:All,Members
GEO:35.1973424;-80.8146806
END:VEVENT
BEGIN:VEVENT
DTSTART;TZID=UTC:20230620T171500
DTEND;TZID=UTC:20230620T181500
DTSTAMP:20260419T215412
CREATED:20230620T191509Z
LAST-MODIFIED:20230620T201626Z
UID:10001130-1687281300-1687284900@www.mintmuseum.org
SUMMARY:Yoga at the Mint
DESCRIPTION:Participate in a one-hour yoga class with Dancing Lotus Yoga + Arts every Tuesday from 5:15-6:15 PM at Mint Museum Uptown. Classes are free for Mint members using code MINT21 and $15 for non-members. Registration is required. \nLearn more about Dancing Lotus Yoga here.
URL:https://www.mintmuseum.org/event/yoga-at-the-mint-2-3/
LOCATION:Mint Museum Uptown
GEO:35.224305;-80.848151
END:VEVENT
BEGIN:VEVENT
DTSTART;TZID=UTC:20230621T190000
DTEND;TZID=UTC:20230621T194500
DTSTAMP:20260419T215412
CREATED:20230417T212707Z
LAST-MODIFIED:20230417T213148Z
UID:10001623-1687374000-1687376700@www.mintmuseum.org
SUMMARY:Mindful Looking at the Mint: Fashion Reimagined Sketching
DESCRIPTION:Mindfulness encourages us to be more present with art\, ourselves and each other. The Mint Museum brings mindfulness to the experience of looking at art and invites you to take a restorative pause in your day and engage deeply with a work of art.No materials required. All will be provided. \n 
URL:https://www.mintmuseum.org/event/mindful-looking-at-the-mint-fashion-reimagined-sketching/
LOCATION:Mint Museum Uptown
GEO:35.224305;-80.848151
END:VEVENT
BEGIN:VEVENT
DTSTART;TZID=UTC:20230623T140000
DTEND;TZID=UTC:20230623T150000
DTSTAMP:20260419T215412
CREATED:20230523T225326Z
LAST-MODIFIED:20230523T225326Z
UID:10001655-1687528800-1687532400@www.mintmuseum.org
SUMMARY:Members Only Tour of Fashion Reimagined: Themes & Variations 1760 – Now
DESCRIPTION:Enjoy a free final Member’s only tour of Fashion Reimagined: Themes & Variations 1760 – Now June 23 at 2pm and 5:30pm led by our museum docents before the exhibition closes. This in depth tour is limited\, so sign up to reserve your spot! \nREGISTER HERE \nNot a member? Join Today! \n  \n 
URL:https://www.mintmuseum.org/event/members-only-tour-of-fashion-reimagined-themes-variations-1760-now/
LOCATION:Mint Museum Uptown
GEO:35.224305;-80.848151
END:VEVENT
BEGIN:VEVENT
DTSTART;TZID=UTC:20230624T100000
DTEND;TZID=UTC:20230624T110000
DTSTAMP:20260419T215412
CREATED:20230216T202816Z
LAST-MODIFIED:20230927T215027Z
UID:10000870-1687600800-1687604400@www.mintmuseum.org
SUMMARY:Yoga on the Lawn
DESCRIPTION:Participate in a one-hour yoga class with Dancing Lotus Yoga + Art select Saturdays on the front lawn at Mint Museum Randolph (weather permitting). Classes are free for Mint members using code MINT21 and $15 for non-members. Registration is required. \nDuring the winter months\, this class will be hosted inside Mint Museum Randolph. \nLearn more about Dancing Lotus Yoga here. \n 
URL:https://www.mintmuseum.org/event/yoga-at-the-mint/2023-06-24/
LOCATION:Mint Museum Randolph
CATEGORIES:All,Members
GEO:35.1973424;-80.8146806
END:VEVENT
BEGIN:VEVENT
DTSTART;TZID=UTC:20230625T130000
DTEND;TZID=UTC:20230625T170000
DTSTAMP:20260419T215412
CREATED:20230313T074402Z
LAST-MODIFIED:20230330T000918Z
UID:10001456-1687698000-1687712400@www.mintmuseum.org
SUMMARY:Party in the Park
DESCRIPTION:Enjoy free admission to the museum\, food trucks\, live music from the Mike Strauss Band\, and a cash bar on the front terrace (weather permitting). In honor of Great Outdoors Month\, pick up an Outdoor Sketching Kit and draw the natural surroundings of the park. Presented by Principal Foundation.
URL:https://www.mintmuseum.org/event/party-in-the-park-5/
LOCATION:Mint Museum Randolph
CATEGORIES:All,Family Friendly,Free
GEO:35.1973424;-80.8146806
END:VEVENT
BEGIN:VEVENT
DTSTART;TZID=UTC:20230627T171500
DTEND;TZID=UTC:20230627T181500
DTSTAMP:20260419T215412
CREATED:20230216T203007Z
LAST-MODIFIED:20240109T025149Z
UID:10001131-1687886100-1687889700@www.mintmuseum.org
SUMMARY:Yoga at the Mint
DESCRIPTION:Participate in a one-hour yoga class with Dancing Lotus Yoga + Arts every Tuesday from 5:15-6:15 PM at Mint Museum Uptown. Classes are free for Mint members using code MINT21 and $15 for nonmembers. Registration is required. \nLearn more about Dancing Lotus Yoga here.
URL:https://www.mintmuseum.org/event/yoga-at-the-mint-2/2023-06-27/
LOCATION:Mint Museum Uptown
CATEGORIES:All,Members
GEO:35.224305;-80.848151
END:VEVENT
BEGIN:VEVENT
DTSTART;TZID=America/New_York:20230628T180000
DTEND;TZID=America/New_York:20230628T200000
DTSTAMP:20260419T215412
CREATED:20230313T082021Z
LAST-MODIFIED:20230426T210041Z
UID:10001470-1687975200-1687982400@www.mintmuseum.org
SUMMARY:Wild Wednesday
DESCRIPTION:Drop by the lawn at Mint Museum Randolph to meet an animal from the Stevens Creek Nature Center\, participate in nature-themed art experiences\, and go on a self-guided scavenger hunt through the museum. Contact Leslie Strauss at 704-337.2050 or leslie.strauss@mintmuseum.org for more information. Animal encounter 6:30-7:30 PM
URL:https://www.mintmuseum.org/event/wild-wednesday-4/
LOCATION:Mint Museum Randolph
CATEGORIES:All,Family Friendly,Free
ATTACH;FMTTYPE=image/jpeg:https://www.mintmuseum.org/wp-content/uploads/2023/04/Wild-Wednesday_2-scaled.jpg
ORGANIZER;CN="Leslie Strauss":MAILTO:leslie.strauss@mintmuseum.org
GEO:35.1973424;-80.8146806
END:VEVENT
BEGIN:VEVENT
DTSTART;TZID=UTC:20230630T110000
DTEND;TZID=UTC:20230630T210000
DTSTAMP:20260419T215412
CREATED:20230518T230721Z
LAST-MODIFIED:20230518T230721Z
UID:10001650-1688122800-1688158800@www.mintmuseum.org
SUMMARY:Members Moment: 'The Vault'
DESCRIPTION:Mint Members get a first look at the exhibition The Vault before it opens to the public. Meet the four local collectors whose art is featured between 6–8 PM. Galleries will be open to members during museum hours. \n  \n 
URL:https://www.mintmuseum.org/event/members-moment-the-vault/
LOCATION:Mint Museum Uptown
CATEGORIES:All,Artist Talks,Free,Members
GEO:35.224305;-80.848151
END:VEVENT
END:VCALENDAR