BEGIN:VCALENDAR
VERSION:2.0
PRODID:-//The Mint Museum - ECPv6.15.20//NONSGML v1.0//EN
CALSCALE:GREGORIAN
METHOD:PUBLISH
X-WR-CALNAME:The Mint Museum
X-ORIGINAL-URL:https://www.mintmuseum.org
X-WR-CALDESC:Events for The Mint Museum
REFRESH-INTERVAL;VALUE=DURATION:PT1H
X-Robots-Tag:noindex
X-PUBLISHED-TTL:PT1H
BEGIN:VTIMEZONE
TZID:America/New_York
BEGIN:DAYLIGHT
TZOFFSETFROM:-0500
TZOFFSETTO:-0400
TZNAME:EDT
DTSTART:20250309T070000
END:DAYLIGHT
BEGIN:STANDARD
TZOFFSETFROM:-0400
TZOFFSETTO:-0500
TZNAME:EST
DTSTART:20251102T060000
END:STANDARD
BEGIN:DAYLIGHT
TZOFFSETFROM:-0500
TZOFFSETTO:-0400
TZNAME:EDT
DTSTART:20260308T070000
END:DAYLIGHT
BEGIN:STANDARD
TZOFFSETFROM:-0400
TZOFFSETTO:-0500
TZNAME:EST
DTSTART:20261101T060000
END:STANDARD
BEGIN:DAYLIGHT
TZOFFSETFROM:-0500
TZOFFSETTO:-0400
TZNAME:EDT
DTSTART:20270314T070000
END:DAYLIGHT
BEGIN:STANDARD
TZOFFSETFROM:-0400
TZOFFSETTO:-0500
TZNAME:EST
DTSTART:20271107T060000
END:STANDARD
END:VTIMEZONE
BEGIN:VEVENT
DTSTART;TZID=America/New_York:20260319T153000
DTEND;TZID=America/New_York:20260319T173000
DTSTAMP:20260419T093316
CREATED:20260213T155202Z
LAST-MODIFIED:20260213T155202Z
UID:10006862-1773934200-1773941400@www.mintmuseum.org
SUMMARY:Taste of the Mint – Food for Thought Art Tours
DESCRIPTION:Savor the flavors of art! Join us for a unique experience where cuisine and creativity come together. Enjoy a specially designed tasting and wine pairing at Mariposa\, our partner restaurant. Then enjoy an educator-led tour of Across the Nation: Masterpieces from the National Gallery of Art. Immerse yourself in a multisensory experience that celebrates the intersection of fine dining and fine art. Reserve your spot today! This is a chef-curated tasting menu. No substitutions or modifications are available. \nThis event takes place at Mariposa on March 12th or 19th! Tickets are $50 for members and $60 for non-members. Your ticket includes an educator-led tour. \n– 3:30 – 4:30 PM – Tasting Experience \n– 4:30 – 5:30 PM – Educator Tour \nJoin us on March 12th or March 19th at Mariposa at 3:30 PM! \nNot a member? Join Today! \nTaste of the Mint is part of Savor Charlotte. Savor Charlotte is a two-week celebration of Charlotte’s culinary scene\, featuring special menus\, tastings\, and unique food and drink experiences across the city.
URL:https://www.mintmuseum.org/event/taste-of-the-mint-food-for-thought-art-tours-2/2026-03-19/
LOCATION:Mint Museum Uptown
CATEGORIES:Adult Programs,Gallery Tours
ATTACH;FMTTYPE=image/jpeg:https://www.mintmuseum.org/wp-content/uploads/2026/02/taste-of-the-mint-nga-loans_kiosk-image.jpg
ORGANIZER;CN="Alex Gutierrez Mendez":MAILTO:alex.gutierrez@mintmuseum.org
GEO:35.224305;-80.848151
END:VEVENT
BEGIN:VEVENT
DTSTART;TZID=America/New_York:20260319T180000
DTEND;TZID=America/New_York:20260319T193000
DTSTAMP:20260419T093316
CREATED:20260129T174155Z
LAST-MODIFIED:20260311T173939Z
UID:10006833-1773943200-1773948600@www.mintmuseum.org
SUMMARY:Artist Talk with Kyle Spence | Rhythms of Place: Improvisation\, Archaeoastronomy\, and Community Design
DESCRIPTION:The Mint Museum welcomes Kyle Spence\, assistant professor of architecture at UNC Charlotte and a 2025 Gambrell Faculty Fellow. Spence’s interdisciplinary practice explores the “Place-Moment” connection\, bridging jazz improvisation\, archaeoastronomy\, and participatory community design. His recent work includes the prize-winning Mitchelville Heritage Trail proposal\, the EarthArcs series\, and the EcoDome urban farming prototypes. \nSpence will share about his practice a approach to his socially responsive architecture designs. \nBeer and wine will be available before the talk begins at 6 p.m. Each program is followed by a post-program reception\, and the opportunity to tour the exhibition  Designing Dynamism. \nAbout the Contemporary Architecture and Design Series\nPresented by Wells Fargo\, the Contemporary Architecture and Design Series features talks by a select group of innovative designers who will share their practice and explore design today.
URL:https://www.mintmuseum.org/event/artist-talk-with-kyle-spence-rhythms-of-place-improvisation-archaeoastronomy-and-community-design/
LOCATION:Mint Museum Randolph
CATEGORIES:Adult Programs,Artist Talks,Free,Members
ATTACH;FMTTYPE=image/jpeg:https://www.mintmuseum.org/wp-content/uploads/2026/01/kyle-spence-meridian-dome-sundial-crop.jpg
ORGANIZER;CN="Maggie Kapitan":MAILTO:maggie.kapitan@mintmuseum.org
GEO:35.1973424;-80.8146806
END:VEVENT
END:VCALENDAR