BEGIN:VCALENDAR
VERSION:2.0
PRODID:-//The Mint Museum - ECPv6.15.20//NONSGML v1.0//EN
CALSCALE:GREGORIAN
METHOD:PUBLISH
X-ORIGINAL-URL:https://www.mintmuseum.org
X-WR-CALDESC:Events for The Mint Museum
REFRESH-INTERVAL;VALUE=DURATION:PT1H
X-Robots-Tag:noindex
X-PUBLISHED-TTL:PT1H
BEGIN:VTIMEZONE
TZID:UTC
BEGIN:STANDARD
TZOFFSETFROM:+0000
TZOFFSETTO:+0000
TZNAME:UTC
DTSTART:20240101T000000
END:STANDARD
END:VTIMEZONE
BEGIN:VTIMEZONE
TZID:America/New_York
BEGIN:DAYLIGHT
TZOFFSETFROM:-0500
TZOFFSETTO:-0400
TZNAME:EDT
DTSTART:20240310T070000
END:DAYLIGHT
BEGIN:STANDARD
TZOFFSETFROM:-0400
TZOFFSETTO:-0500
TZNAME:EST
DTSTART:20241103T060000
END:STANDARD
BEGIN:DAYLIGHT
TZOFFSETFROM:-0500
TZOFFSETTO:-0400
TZNAME:EDT
DTSTART:20250309T070000
END:DAYLIGHT
BEGIN:STANDARD
TZOFFSETFROM:-0400
TZOFFSETTO:-0500
TZNAME:EST
DTSTART:20251102T060000
END:STANDARD
BEGIN:DAYLIGHT
TZOFFSETFROM:-0500
TZOFFSETTO:-0400
TZNAME:EDT
DTSTART:20260308T070000
END:DAYLIGHT
BEGIN:STANDARD
TZOFFSETFROM:-0400
TZOFFSETTO:-0500
TZNAME:EST
DTSTART:20261101T060000
END:STANDARD
END:VTIMEZONE
BEGIN:VEVENT
DTSTART;TZID=UTC:20250628T100000
DTEND;TZID=UTC:20250628T110000
DTSTAMP:20260420T045328
CREATED:20250324T202504Z
LAST-MODIFIED:20250324T202934Z
UID:10000975-1751104800-1751108400@www.mintmuseum.org
SUMMARY:Yoga on the Lawn
DESCRIPTION:Participate in a one-hour yoga class with Dancing Lotus Yoga + Art on select Saturdays on the front lawn\, or indoors\, at Mint Museum Randolph (weather permitting). Classes are free for Mint members and $10 for nonmembers. During the winter months\, this class will be hosted inside Mint Museum Randolph. Members\, please contact Alex Gutierrez Mendez\, Membership Services Manager\, for the online code for free yoga at alex.gutierrez@mintmuseum.org. \nRegistration is required.\nRegister through Dancing Lotus Yoga + Arts here.
URL:https://www.mintmuseum.org/event/yoga-at-the-mint-3-2-2-3-2-2/2025-06-28/
LOCATION:Mint Museum Randolph
CATEGORIES:All,Members
ATTACH;FMTTYPE=image/jpeg:https://www.mintmuseum.org/wp-content/uploads/2023/09/Yoga-on-the-Lawn.jpg
GEO:35.1973424;-80.8146806
END:VEVENT
BEGIN:VEVENT
DTSTART;TZID=America/New_York:20250628T110000
DTEND;TZID=America/New_York:20250628T160000
DTSTAMP:20260420T045328
CREATED:20250117T162149Z
LAST-MODIFIED:20250117T162209Z
UID:10005271-1751108400-1751126400@www.mintmuseum.org
SUMMARY:Lewis Family Gallery
DESCRIPTION:Visitors of all ages can play\, explore\, and learn about the museum collection in the Lewis Family Gallery. This hands-on space provides a creative environment for making art\, engaging in building and puzzle challenges\, posing for pictures\, and stepping into a Romare Bearden collage playhouse. For the safety of visitors\, vigorous cleaning protocols are in place. \nHOURS:\nWednesday: 5-8 PM\nFriday & Saturday: 11 AM-4 PM\nSunday: 1-5 PM
URL:https://www.mintmuseum.org/event/lewis-family-gallery-3/2025-06-28/
LOCATION:Mint Museum Uptown
CATEGORIES:Family Friendly,Free
ATTACH;FMTTYPE=image/jpeg:https://www.mintmuseum.org/wp-content/uploads/2025/01/children-families-hero-1.jpg
ORGANIZER;CN="Leslie Strauss":MAILTO:leslie.strauss@mintmuseum.org
GEO:35.224305;-80.848151
END:VEVENT
BEGIN:VEVENT
DTSTART;TZID=America/New_York:20250628T140000
DTEND;TZID=America/New_York:20250628T150000
DTSTAMP:20260420T045328
CREATED:20250521T183515Z
LAST-MODIFIED:20250523T152433Z
UID:10006202-1751119200-1751122800@www.mintmuseum.org
SUMMARY:Members-Only Tour of ANNIE LEIBOVITZ / WORK
DESCRIPTION:+$10 special exhibition admission \nMembers enjoy a guided tour in ANNIE LEIBOVITZ / WORK. This exhibition presents a compelling mix of new and rarely seen photographs alongside some of the most recognizable portraits in American culture. This landmark exhibition celebrates Leibovitz’s illustrious 50-year career. Visitors will enjoy the exhibition in an engaging dual format\, with prints on paper complemented by cutting-edge digital displays. This immersive presentation highlights both the timeless quality of her work and her embrace of new photographic technologies. \nNo registration needed\, purchase $10 tickets online for June 28th \nJoin us on June 28th at Mint Uptown at 2:00 PM! \nNot a member? Join Today!
URL:https://www.mintmuseum.org/event/members-only-tour-of-annie-leibovitz-work/
LOCATION:Mint Museum Uptown
CATEGORIES:Adult Programs,Gallery Tours,Members
ATTACH;FMTTYPE=image/jpeg:https://www.mintmuseum.org/wp-content/uploads/2025/05/ALW-newsletter-content-2.jpg
ORGANIZER;CN="Alex Gutierrez Mendez":MAILTO:alex.gutierrez@mintmuseum.org
GEO:35.224305;-80.848151
END:VEVENT
END:VCALENDAR