BEGIN:VCALENDAR
VERSION:2.0
PRODID:-//The Mint Museum - ECPv6.15.20//NONSGML v1.0//EN
CALSCALE:GREGORIAN
METHOD:PUBLISH
X-WR-CALNAME:The Mint Museum
X-ORIGINAL-URL:https://www.mintmuseum.org
X-WR-CALDESC:Events for The Mint Museum
REFRESH-INTERVAL;VALUE=DURATION:PT1H
X-Robots-Tag:noindex
X-PUBLISHED-TTL:PT1H
BEGIN:VTIMEZONE
TZID:America/New_York
BEGIN:DAYLIGHT
TZOFFSETFROM:-0500
TZOFFSETTO:-0400
TZNAME:EDT
DTSTART:20240310T070000
END:DAYLIGHT
BEGIN:STANDARD
TZOFFSETFROM:-0400
TZOFFSETTO:-0500
TZNAME:EST
DTSTART:20241103T060000
END:STANDARD
BEGIN:DAYLIGHT
TZOFFSETFROM:-0500
TZOFFSETTO:-0400
TZNAME:EDT
DTSTART:20250309T070000
END:DAYLIGHT
BEGIN:STANDARD
TZOFFSETFROM:-0400
TZOFFSETTO:-0500
TZNAME:EST
DTSTART:20251102T060000
END:STANDARD
BEGIN:DAYLIGHT
TZOFFSETFROM:-0500
TZOFFSETTO:-0400
TZNAME:EDT
DTSTART:20260308T070000
END:DAYLIGHT
BEGIN:STANDARD
TZOFFSETFROM:-0400
TZOFFSETTO:-0500
TZNAME:EST
DTSTART:20261101T060000
END:STANDARD
END:VTIMEZONE
BEGIN:VEVENT
DTSTART;VALUE=DATE:20250305
DTEND;VALUE=DATE:20250309
DTSTAMP:20260420T124802
CREATED:20250124T193716Z
LAST-MODIFIED:20250303T165754Z
UID:10006038-1741132800-1741478399@www.mintmuseum.org
SUMMARY:Free Art Kits: Guitar Collage
DESCRIPTION:Visit Mint Museum Randolph to pick up a free all-ages project to create at home. This month\, create a guitar collage inspired by the art of Romare Bearden. Play with improvisation and learn about the Charlotte-born artist’s love of music. \n*While supplies last\, during museum hours:\nWednesday 11 AM-9 PM\nThursday-Saturday 11 AM-6 PM \nFor questions please contact: Leslie Strauss at leslie.strauss@mintmuseum.org or (704) 337-2050.\nFree Art Kits are supported by Mint Museum Auxiliary.
URL:https://www.mintmuseum.org/event/free-art-kits-guitar-collage/
LOCATION:Mint Museum Randolph
CATEGORIES:Family Friendly,Free
ATTACH;FMTTYPE=image/jpeg:https://www.mintmuseum.org/wp-content/uploads/2025/01/img_3508-scaled.jpg
ORGANIZER;CN="Leslie Strauss":MAILTO:leslie.strauss@mintmuseum.org
GEO:35.1973424;-80.8146806
END:VEVENT
BEGIN:VEVENT
DTSTART;TZID=America/New_York:20250305T170000
DTEND;TZID=America/New_York:20250305T200000
DTSTAMP:20260420T124802
CREATED:20241015T161935Z
LAST-MODIFIED:20241015T161935Z
UID:10003297-1741194000-1741204800@www.mintmuseum.org
SUMMARY:Drop in Art at Mint Museum Randolph
DESCRIPTION:Drop In | Ages 3 to Adult\nThe Art Room is open! Drop by anytime between 5-8 PM on Wednesdays for self-directed\, creative fun for children and adults. This season explore fiber art\, drawing & painting\, collage\, plus rotating seasonal activities. A museum educator will be on hand to share studio rules and provide helpful tips. \nWinter/Spring 2025- Wednesdays\, January 15 through April 2\, 5-8 PM \nContact: Leslie Strauss\nleslie.strauss@mintmuseum.org\n(704) 337-2050
URL:https://www.mintmuseum.org/event/drop-in-art-at-mint-museum-randolph/2025-03-05/
LOCATION:Mint Museum Randolph
CATEGORIES:Family Friendly,Free
ATTACH;FMTTYPE=image/jpeg:https://www.mintmuseum.org/wp-content/uploads/2024/10/IMG_2414-scaled.jpg
ORGANIZER;CN="Leslie Strauss":MAILTO:leslie.strauss@mintmuseum.org
GEO:35.1973424;-80.8146806
END:VEVENT
BEGIN:VEVENT
DTSTART;TZID=America/New_York:20250305T170000
DTEND;TZID=America/New_York:20250305T200000
DTSTAMP:20260420T124802
CREATED:20250117T155501Z
LAST-MODIFIED:20250117T161841Z
UID:10004477-1741194000-1741204800@www.mintmuseum.org
SUMMARY:Lewis Family Gallery
DESCRIPTION:Visitors of all ages can play\, explore\, and learn about the museum collection in the Lewis Family Gallery. This hands-on space provides a creative environment for making art\, engaging in building and puzzle challenges\, posing for pictures\, and stepping into a Romare Bearden collage playhouse. For the safety of visitors\, vigorous cleaning protocols are in place. \nHOURS:\nWednesday: 5-8 PM\nFriday & Saturday: 11 AM-4 PM\nSunday: 1-5 PM
URL:https://www.mintmuseum.org/event/lewis-family-gallery/2025-03-05/
LOCATION:Mint Museum Uptown
CATEGORIES:Family Friendly,Free
ATTACH;FMTTYPE=image/jpeg:https://www.mintmuseum.org/wp-content/uploads/2025/01/children-families-hero-1.jpg
ORGANIZER;CN="Leslie Strauss":MAILTO:leslie.strauss@mintmuseum.org
GEO:35.224305;-80.848151
END:VEVENT
BEGIN:VEVENT
DTSTART;TZID=America/New_York:20250305T170000
DTEND;TZID=America/New_York:20250305T210000
DTSTAMP:20260420T124802
CREATED:20250210T202716Z
LAST-MODIFIED:20250225T205504Z
UID:10006048-1741194000-1741208400@www.mintmuseum.org
SUMMARY:Wednesday Night Live: Art Connections + Coined in the South Artist Panel
DESCRIPTION:Couples are invited to spend time close-looking at art in the Coined in the South before joining a panel discussion with the Atrium Health Juror’s Choice Award winner Laura Tanner\, Young Affiliates of the Mint Choice Award winner Ellie Rose\, and the soon-to-be-announced People’s Choice awardee\, along with the jurors who helped select the artists on view in this year’s Coined in the South biennial exhibition. \n7–8:15 PM Panel discussion\, cash bar\, galleries open late! \n  \nPresented by Bank of America
URL:https://www.mintmuseum.org/event/wednesday-night-live-art-connections-coined-in-the-south-artist-panel/
LOCATION:Mint Museum Uptown
CATEGORIES:Adult Programs,Artist Talks,Free
ATTACH;FMTTYPE=image/png:https://www.mintmuseum.org/wp-content/uploads/2025/02/Untitled-design.png
GEO:35.224305;-80.848151
END:VEVENT
BEGIN:VEVENT
DTSTART;TZID=America/New_York:20250305T180000
DTEND;TZID=America/New_York:20250305T193000
DTSTAMP:20260420T124802
CREATED:20241205T231630Z
LAST-MODIFIED:20250206T192542Z
UID:10003412-1741197600-1741203000@www.mintmuseum.org
SUMMARY:The Art of Reading: "Portrait of a Thief"
DESCRIPTION:“Portrait of a Thief” by Grace D. Li is a thrilling heist novel that blends Ocean’s Eleven with The Farewell. Inspired by the true story of Chinese art disappearing from Western museums\, it explores themes of diaspora\, cultural theft\, and Chinese American identity. \n 
URL:https://www.mintmuseum.org/event/the-art-of-reading-portrait-of-a-thief-2/
LOCATION:Mint Museum Randolph
CATEGORIES:Free,Gallery Tours
ATTACH;FMTTYPE=image/jpeg:https://www.mintmuseum.org/wp-content/uploads/2023/09/MicrosoftTeams-image-10-scaled.jpg
ORGANIZER;CN="Kassidy Childs":MAILTO:kassidy.childs@mintmuseum.org
GEO:35.1973424;-80.8146806
END:VEVENT
END:VCALENDAR