BEGIN:VCALENDAR
VERSION:2.0
PRODID:-//The Mint Museum - ECPv6.15.20//NONSGML v1.0//EN
CALSCALE:GREGORIAN
METHOD:PUBLISH
X-WR-CALNAME:The Mint Museum
X-ORIGINAL-URL:https://www.mintmuseum.org
X-WR-CALDESC:Events for The Mint Museum
REFRESH-INTERVAL;VALUE=DURATION:PT1H
X-Robots-Tag:noindex
X-PUBLISHED-TTL:PT1H
BEGIN:VTIMEZONE
TZID:UTC
BEGIN:STANDARD
TZOFFSETFROM:+0000
TZOFFSETTO:+0000
TZNAME:UTC
DTSTART:20220101T000000
END:STANDARD
END:VTIMEZONE
BEGIN:VEVENT
DTSTART;TZID=UTC:20230308T183000
DTEND;TZID=UTC:20230308T203000
DTSTAMP:20260419T170233
CREATED:20230215T005458Z
LAST-MODIFIED:20230308T215956Z
UID:10000582-1678300200-1678307400@www.mintmuseum.org
SUMMARY:Mint Música and Poesía Café: Café Amaretto and the NC Brazilian Project
DESCRIPTION:Indulge in romantic Latin American songs by Café Amaretto (@cafeamarettomusic)\, and traditional Brazilian dance\, capoeira\, and samba by the NC Brazilian Arts Project (@ncbrazilianartsproject). \nThrough Latin guitar sounds\, melodious vocals\, spoken poetic voices\, Brazilian-themed dances and costumes\, the night will highlight Latin culture through different creative mediums. \n  \nMint Música and Poesía Café\nWednesday\, March 8\, 6:30-8:30 PM\nMint Museum Uptown\nFree\, cash bar
URL:https://www.mintmuseum.org/event/mint-musica-and-poesia-cafe-cafe-amaretto-and-the-nc-brazilian-project/
LOCATION:Mint Museum Uptown
CATEGORIES:All,Family Friendly,Free
GEO:35.224305;-80.848151
END:VEVENT
END:VCALENDAR