BEGIN:VCALENDAR
VERSION:2.0
PRODID:-//The Mint Museum - ECPv6.15.20//NONSGML v1.0//EN
CALSCALE:GREGORIAN
METHOD:PUBLISH
X-ORIGINAL-URL:https://www.mintmuseum.org
X-WR-CALDESC:Events for The Mint Museum
REFRESH-INTERVAL;VALUE=DURATION:PT1H
X-Robots-Tag:noindex
X-PUBLISHED-TTL:PT1H
BEGIN:VTIMEZONE
TZID:UTC
BEGIN:STANDARD
TZOFFSETFROM:+0000
TZOFFSETTO:+0000
TZNAME:UTC
DTSTART:20220101T000000
END:STANDARD
END:VTIMEZONE
BEGIN:VEVENT
DTSTART;TZID=UTC:20230304T100000
DTEND;TZID=UTC:20230304T110000
DTSTAMP:20260420T070931
CREATED:20230216T202816Z
LAST-MODIFIED:20230927T215027Z
UID:10000854-1677924000-1677927600@www.mintmuseum.org
SUMMARY:Yoga on the Lawn
DESCRIPTION:Participate in a one-hour yoga class with Dancing Lotus Yoga + Art select Saturdays on the front lawn at Mint Museum Randolph (weather permitting). Classes are free for Mint members using code MINT21 and $15 for non-members. Registration is required. \nDuring the winter months\, this class will be hosted inside Mint Museum Randolph. \nLearn more about Dancing Lotus Yoga here. \n 
URL:https://www.mintmuseum.org/event/yoga-at-the-mint/2023-03-04/
LOCATION:Mint Museum Randolph
CATEGORIES:All,Members
GEO:35.1973424;-80.8146806
END:VEVENT
BEGIN:VEVENT
DTSTART;TZID=UTC:20230304T140000
DTEND;TZID=UTC:20230304T150000
DTSTAMP:20260420T070931
CREATED:20230214T223826Z
LAST-MODIFIED:20230303T061755Z
UID:10000578-1677938400-1677942000@www.mintmuseum.org
SUMMARY:Romare Bearden and Jazz
DESCRIPTION:JazzArts Charlotte and The Mint Museum present a special “informance” that explores artist Romare Bearden’s roots and relationship to jazz\, musician comrades\, and works of art that were influenced by music. \nRomare Bearden and Jazz\nMarch 4\, 2023 | 2-3 PM\nMint Museum Uptown\nFree
URL:https://www.mintmuseum.org/event/romare-bearden-and-jazz/
LOCATION:Mint Museum Uptown
CATEGORIES:All,Free
GEO:35.224305;-80.848151
END:VEVENT
END:VCALENDAR